BEGIN:VCALENDAR
VERSION:2.0
PRODID:-//Tukios.com/
BEGIN:VEVENT
UID:acce6986-9b79-469d-8b63-dcd743e3e990@www.martenson.com
DTSTAMP:20260421T085213Z
DTSTART:20260417T184500Z
DTEND:20260417T194500Z
SUMMARY:Burial
DESCRIPTION:
URL:https://www.martenson.com/obituaries/abul-shamsuddin
LOCATION: 621 West Long Lake Road  Troy MI 48098
GEO:42.5909332;-83.164272
END:VEVENT
END:VCALENDAR