BEGIN:VCALENDAR
VERSION:2.0
PRODID:-//Tukios.com/
BEGIN:VEVENT
UID:b6e6b2e9-b28f-4573-89e6-11d15d9626eb@www.martenson.com
DTSTAMP:20260421T085751Z
DTSTART:20260417T170000Z
DTEND:20260417T180000Z
SUMMARY:Instate
DESCRIPTION:
URL:https://www.martenson.com/obituaries/abul-shamsuddin
LOCATION: 879 W Auburn Rd  Rochester Hills MI 48307
GEO:42.6349041;-83.1492156
END:VEVENT
END:VCALENDAR