BEGIN:VCALENDAR
VERSION:2.0
PRODID:-//Tukios.com/
BEGIN:VEVENT
UID:8f40b35e-31a3-486b-ab58-affe666bdaff@www.martenson.com
DTSTAMP:20260422T172358Z
DTSTART:20260423T150000Z
DTEND:20260423T160000Z
SUMMARY:Instate
DESCRIPTION:
URL:https://www.martenson.com/obituaries/anthony-attard
LOCATION: 13249 Pennsylvania Road  Riverview MI 48193
GEO:42.1843848;-83.1852673
END:VEVENT
END:VCALENDAR