BEGIN:VCALENDAR
VERSION:2.0
PRODID:-//Tukios.com/
BEGIN:VEVENT
UID:6a442de7-f82f-4a37-8d88-c651ee322041@www.martenson.com
DTSTAMP:20260422T172358Z
DTSTART:20260423T160000Z
DTEND:20260423T170000Z
SUMMARY:Mass
DESCRIPTION:
URL:https://www.martenson.com/obituaries/anthony-attard
LOCATION: 13249 Pennsylvania Road  Riverview MI 48193
GEO:42.1843848;-83.1852673
END:VEVENT
END:VCALENDAR