BEGIN:VCALENDAR
VERSION:2.0
PRODID:-//Tukios.com/
BEGIN:VEVENT
UID:de3bd258-c29b-4333-93b9-8200ee54ef9f@www.martenson.com
DTSTAMP:20260419T172629Z
DTSTART:20260422T160000Z
DTEND:20260422T183000Z
SUMMARY:Visitation
DESCRIPTION:
URL:https://www.martenson.com/obituaries/erin-radler
LOCATION: 3200 West Rd  Trenton MI 48183
GEO:42.141433;-83.2071897
END:VEVENT
END:VCALENDAR