BEGIN:VCALENDAR
VERSION:2.0
PRODID:-//Tukios.com/
BEGIN:VEVENT
UID:7e25e889-d67a-4b03-b94f-21fff76d79c9@www.martenson.com
DTSTAMP:20260419T173024Z
DTSTART:20260422T183000Z
DTEND:20260422T193000Z
SUMMARY:Funeral Service
DESCRIPTION:
URL:https://www.martenson.com/obituaries/erin-radler
LOCATION: 3200 West Rd  Trenton MI 48183
GEO:42.141433;-83.2071897
END:VEVENT
END:VCALENDAR