BEGIN:VCALENDAR
VERSION:2.0
PRODID:-//Tukios.com/
BEGIN:VEVENT
UID:a6e2c013-0c9f-4122-9d69-5388ebffbcf7@www.martenson.com
DTSTAMP:20260419T172406Z
DTSTART:20260422
SUMMARY:Burial
DESCRIPTION:
URL:https://www.martenson.com/obituaries/erin-radler
LOCATION: 32163 West Huron River Drive   MI 48164
GEO:42.1230047;-83.3461322
END:VEVENT
END:VCALENDAR