BEGIN:VCALENDAR
VERSION:2.0
PRODID:-//Tukios.com/
BEGIN:VEVENT
UID:7e325901-cbcb-4c2f-b0ca-b6529f710809@www.martenson.com
DTSTAMP:20260421T185130Z
DTSTART:20260423T150000Z
DTEND:20260423T173000Z
SUMMARY:Visitation
DESCRIPTION:
URL:https://www.martenson.com/obituaries/james-smith
LOCATION: 203 E Elm Ave  Monroe MI 48162
GEO:41.9176549;-83.3928935
END:VEVENT
END:VCALENDAR