BEGIN:VCALENDAR
VERSION:2.0
PRODID:-//Tukios.com/
BEGIN:VEVENT
UID:b4737985-1f82-4e8e-b5b1-d03f20b3080d@www.martenson.com
DTSTAMP:20260421T185130Z
DTSTART:20260423T173000Z
DTEND:20260423T183000Z
SUMMARY:Celebration of Life
DESCRIPTION:
URL:https://www.martenson.com/obituaries/james-smith
LOCATION: 203 E Elm Ave  Monroe MI 48162
GEO:41.9176549;-83.3928935
END:VEVENT
END:VCALENDAR