BEGIN:VCALENDAR
VERSION:2.0
PRODID:-//Tukios.com/
BEGIN:VEVENT
UID:ee7c8077-2dc6-4464-8cc8-0c0e3a2111f4@www.martenson.com
DTSTAMP:20260421T185149Z
DTSTART:20260423
SUMMARY:Burial
DESCRIPTION:
URL:https://www.martenson.com/obituaries/james-smith
LOCATION:    La Salle MI 48145
GEO:41.8678237;-83.4521555
END:VEVENT
END:VCALENDAR