BEGIN:VCALENDAR
VERSION:2.0
PRODID:-//Tukios.com/
BEGIN:VEVENT
UID:cb830a39-744b-4dcc-8ef8-8c984955ad05@www.martenson.com
DTSTAMP:20260423T203716Z
DTSTART:20260427T180000Z
DTEND:20260427T230000Z
SUMMARY:Memorial Gathering
DESCRIPTION:
URL:https://www.martenson.com/obituaries/kate-wilson
LOCATION: 3200 West Road  Trenton MI 48183
GEO:42.141433;-83.2071897
END:VEVENT
END:VCALENDAR