BEGIN:VCALENDAR
VERSION:2.0
PRODID:-//Tukios.com/
BEGIN:VEVENT
UID:3b15141f-94f7-4e1d-912a-155836425867@www.martenson.com
DTSTAMP:20260422T202701Z
DTSTART:20260502T150000Z
DTEND:20260502T160000Z
SUMMARY:Memorial Gathering
DESCRIPTION:
URL:https://www.martenson.com/obituaries/rory-girard
LOCATION: 203 E Elm Ave  Monroe MI 48162
GEO:41.9176549;-83.3928935
END:VEVENT
END:VCALENDAR