BEGIN:VCALENDAR
VERSION:2.0
PRODID:-//Tukios.com/
BEGIN:VEVENT
UID:5e57aacf-e8f9-4b3a-beb0-77d4a74fb0e1@www.martenson.com
DTSTAMP:20260422T202701Z
DTSTART:20260502T160000Z
DTEND:20260502T170000Z
SUMMARY:Memorial Service
DESCRIPTION:
URL:https://www.martenson.com/obituaries/rory-girard
LOCATION: 203 E Elm Ave  Monroe MI 48162
GEO:41.9176549;-83.3928935
END:VEVENT
END:VCALENDAR