BEGIN:VCALENDAR
VERSION:2.0
PRODID:-//Tukios.com/
BEGIN:VEVENT
UID:e59be7ac-f080-480f-a091-4ae55e1be6dc@www.martenson.com
DTSTAMP:20260420T204600Z
DTSTART:20260424T150000Z
DTEND:20260424T160000Z
SUMMARY:Memorial Gathering
DESCRIPTION:
URL:https://www.martenson.com/obituaries/sharon-bondy
LOCATION: 203 E Elm Ave  Monroe MI 48162
GEO:41.9176549;-83.3928935
END:VEVENT
END:VCALENDAR