BEGIN:VCALENDAR
VERSION:2.0
PRODID:-//Tukios.com/
BEGIN:VEVENT
UID:bd69eae7-ee63-4343-9703-8cd93f402a1d@www.martenson.com
DTSTAMP:20260420T204903Z
DTSTART:20260424T160000Z
DTEND:20260424T170000Z
SUMMARY:Celebration of Life
DESCRIPTION:
URL:https://www.martenson.com/obituaries/sharon-bondy
LOCATION: 203 E Elm Ave  Monroe MI 48162
GEO:41.9176549;-83.3928935
END:VEVENT
END:VCALENDAR