BEGIN:VCALENDAR
VERSION:2.0
PRODID:-//Tukios.com/
BEGIN:VEVENT
UID:0856652b-0f8f-47b3-80da-e892cfff6afd@www.martenson.com
DTSTAMP:20260425T173651Z
DTSTART:20260429T180000Z
DTEND:20260430T000000Z
SUMMARY:Visitation
DESCRIPTION:
URL:https://www.martenson.com/obituaries/t-gilbert
LOCATION: 3200 West Rd  Trenton MI 48183
GEO:42.141433;-83.2071897
END:VEVENT
END:VCALENDAR