BEGIN:VCALENDAR
VERSION:2.0
PRODID:-//Tukios.com/
BEGIN:VEVENT
UID:a173a8c8-59aa-4b03-9d06-112865210d7c@www.martenson.com
DTSTAMP:20260425T173651Z
DTSTART:20260429T220000Z
DTEND:20260429T230000Z
SUMMARY:Prayer Service
DESCRIPTION:
URL:https://www.martenson.com/obituaries/t-gilbert
LOCATION: 3200 West Rd  Trenton MI 48183
GEO:42.141433;-83.2071897
END:VEVENT
END:VCALENDAR