BEGIN:VCALENDAR
VERSION:2.0
PRODID:-//Tukios.com/
BEGIN:VEVENT
UID:c76d625b-830d-4138-adce-96297602e732@www.martenson.com
DTSTAMP:20260425T173554Z
DTSTART:20260430T133000Z
DTEND:20260430T140000Z
SUMMARY:Instate
DESCRIPTION:
URL:https://www.martenson.com/obituaries/t-gilbert
LOCATION: 2623 3rd Street  Trenton MI 48183
GEO:42.1438202;-83.1783252
END:VEVENT
END:VCALENDAR