BEGIN:VCALENDAR
VERSION:2.0
PRODID:-//Tukios.com/
BEGIN:VEVENT
UID:93a38855-fd33-4875-8f5e-45c16ea26db6@www.martenson.com
DTSTAMP:20260425T173553Z
DTSTART:20260430T140000Z
DTEND:20260430T150000Z
SUMMARY:Mass
DESCRIPTION:
URL:https://www.martenson.com/obituaries/t-gilbert
LOCATION: 2623 3rd Street  Trenton MI 48183
GEO:42.1438202;-83.1783252
END:VEVENT
END:VCALENDAR