BEGIN:VCALENDAR
VERSION:2.0
PRODID:-//Tukios.com/
BEGIN:VEVENT
UID:158dd4b1-9c93-4a5f-aead-f79f3d0427ec@www.martenson.com
DTSTAMP:20260425T223421Z
DTSTART:20260428T200000Z
DTEND:20260429T000000Z
SUMMARY:Visitation
DESCRIPTION:
URL:https://www.martenson.com/obituaries/thomas-oliver
LOCATION: 10915 Allen Rd  Allen Park MI 48101
GEO:42.2291232;-83.2287596
END:VEVENT
END:VCALENDAR