BEGIN:VCALENDAR
VERSION:2.0
PRODID:-//Tukios.com/
BEGIN:VEVENT
UID:630d94b9-9ada-4fac-b19a-08e20b113d95@www.martenson.com
DTSTAMP:20260425T223253Z
DTSTART:20260428T223000Z
DTEND:20260428T233000Z
SUMMARY:Army Honor Guard Service
DESCRIPTION:
URL:https://www.martenson.com/obituaries/thomas-oliver
LOCATION: 10915 Allen Rd  Allen Park MI 48101
GEO:42.2291232;-83.2287596
END:VEVENT
END:VCALENDAR